BEGIN:VCALENDAR
VERSION:2.0
PRODID:-//Energize Wayland - ECPv6.15.18//NONSGML v1.0//EN
CALSCALE:GREGORIAN
METHOD:PUBLISH
X-WR-CALNAME:Energize Wayland
X-ORIGINAL-URL:https://energizewayland.org
X-WR-CALDESC:Events for Energize Wayland
REFRESH-INTERVAL;VALUE=DURATION:PT1H
X-Robots-Tag:noindex
X-PUBLISHED-TTL:PT1H
BEGIN:VTIMEZONE
TZID:America/New_York
BEGIN:DAYLIGHT
TZOFFSETFROM:-0500
TZOFFSETTO:-0400
TZNAME:EDT
DTSTART:20240310T070000
END:DAYLIGHT
BEGIN:STANDARD
TZOFFSETFROM:-0400
TZOFFSETTO:-0500
TZNAME:EST
DTSTART:20241103T060000
END:STANDARD
BEGIN:DAYLIGHT
TZOFFSETFROM:-0500
TZOFFSETTO:-0400
TZNAME:EDT
DTSTART:20250309T070000
END:DAYLIGHT
BEGIN:STANDARD
TZOFFSETFROM:-0400
TZOFFSETTO:-0500
TZNAME:EST
DTSTART:20251102T060000
END:STANDARD
BEGIN:DAYLIGHT
TZOFFSETFROM:-0500
TZOFFSETTO:-0400
TZNAME:EDT
DTSTART:20260308T070000
END:DAYLIGHT
BEGIN:STANDARD
TZOFFSETFROM:-0400
TZOFFSETTO:-0500
TZNAME:EST
DTSTART:20261101T060000
END:STANDARD
BEGIN:DAYLIGHT
TZOFFSETFROM:-0500
TZOFFSETTO:-0400
TZNAME:EDT
DTSTART:20270314T070000
END:DAYLIGHT
BEGIN:STANDARD
TZOFFSETFROM:-0400
TZOFFSETTO:-0500
TZNAME:EST
DTSTART:20271107T060000
END:STANDARD
END:VTIMEZONE
BEGIN:VEVENT
DTSTART;TZID=America/New_York:20260422T190000
DTEND;TZID=America/New_York:20260422T200000
DTSTAMP:20260421T140252
CREATED:20260305T201136Z
LAST-MODIFIED:20260331T201646Z
UID:10000011-1776884400-1776888000@energizewayland.org
SUMMARY:Heat Pumps 101: Incentives\, Quotes & More
DESCRIPTION:Thinking about installing a heat pump? Go for it! \nHeat pumps provide efficient heating and cooling\, lower your carbon footprint\, and can qualify for thousands of dollars in state rebates. Over 420  Wayland neighbors have heat pumps\, join them and qualify for a lower electric rate next winter that can save you over $500/winter.   \nAttend our webinar to learn how heat pumps work\, explore incentives\, find out how to get quotes from trusted installers\, hear from neighbors who have made the switch. Our local volunteer heat pump coaches can help guide you through the process of evaluating quotes and options. Sign up for coaching at EnergizeWayland.  \n📅 April 22\, 2026\, 7–8pm\n🔗 Register: bit.ly/heat-pumps-101
URL:https://energizewayland.org/event/heat-pumps-101-incentives-quotes-more/
ATTACH;FMTTYPE=image/png:https://energizewayland.org/wp-content/uploads/sites/32/2026/03/plugIN-260225-164416-1.png
END:VEVENT
BEGIN:VEVENT
DTSTART;TZID=America/New_York:20260319T190000
DTEND;TZID=America/New_York:20260319T200000
DTSTAMP:20260421T140252
CREATED:20260301T223324Z
LAST-MODIFIED:20260302T180356Z
UID:10000010-1773946800-1773950400@energizewayland.org
SUMMARY:Make the Switch: From Gas to Cleaner Induction Cooking
DESCRIPTION:Ready to upgrade your kitchen? Switch from gas to induction for faster\, safer\, and cleaner cooking! \nJoin our free webinar on March 19 at 7 PM to learn how induction works\, get tips\, and discover incentives to make the switch easier. \nRegister now! \n 
URL:https://energizewayland.org/event/make-the-switch-from-gas-to-cleaner-induction-cooking/
ATTACH;FMTTYPE=image/png:https://massenergize-wp-media.s3.us-east-2.amazonaws.com/sites/32/IMG_0022.png
END:VEVENT
BEGIN:VEVENT
DTSTART;TZID=America/New_York:20260218T190000
DTEND;TZID=America/New_York:20260218T200000
DTSTAMP:20260421T140252
CREATED:20260126T132704Z
LAST-MODIFIED:20260126T132704Z
UID:10000009-1771441200-1771444800@energizewayland.org
SUMMARY:Home Solar Still Works Without Federal Incentives
DESCRIPTION:Thinking about solar but not sure where to start? Join our webinar to learn how solar works\, what options are available\, typical payback periods\, and how it can help lower energy costs while supporting a cleaner\, healthier community! \nLearn with Boston Solar\, hear from neighbors who have solar systems\, and ask your questions of our experts and solar coaches. Sign up for a wayland solar coach \nRegister: www.tinyurl.com/home-solar-webinar
URL:https://energizewayland.org/event/home-solar-still-works-without-federal-incentives/
ATTACH;FMTTYPE=image/png:https://massenergize-wp-media.s3.us-east-2.amazonaws.com/sites/32/Wayland.png
END:VEVENT
BEGIN:VEVENT
DTSTART;TZID=America/New_York:20251120T000000
DTEND;TZID=America/New_York:20251120T010000
DTSTAMP:20260421T140252
CREATED:20251202T011637Z
LAST-MODIFIED:20251205T011251Z
UID:10000007-1763596800-1763600400@energizewayland.org
SUMMARY:Heat Pump Water Heater Webinar: Stop heating your money away!
DESCRIPTION:Stop heating your money away! 💸 \nDon’t miss out on federal tax credits of up to $2\,000 for qualifying heat pump water heaters\, or up to $3\,200 total annually for all eligible home energy upgrades! These incentives expire at the end of 2025 and can be combined with Mass Save rebates for even greater savings. \n  \nJoin our webinar to learn how to maximize your benefits!  \n\nRegister: www.bit.ly/hp-water-heater
URL:https://energizewayland.org/event/heat-pump-water-heater-webinar-stop-heating-your-money-away/
ATTACH;FMTTYPE=image/png:https://massenergize-wp-media.s3.us-east-2.amazonaws.com/sites/32/heat-pump-water-heater-251018-002924.png
END:VEVENT
END:VCALENDAR